BEGIN:VCALENDAR
VERSION:2.0
PRODID:-//EastRidge Church - ECPv6.15.20//NONSGML v1.0//EN
CALSCALE:GREGORIAN
METHOD:PUBLISH
X-ORIGINAL-URL:https://eastridge.ca
X-WR-CALDESC:Events for EastRidge Church
REFRESH-INTERVAL;VALUE=DURATION:PT1H
X-Robots-Tag:noindex
X-PUBLISHED-TTL:PT1H
BEGIN:VTIMEZONE
TZID:America/Toronto
BEGIN:DAYLIGHT
TZOFFSETFROM:-0500
TZOFFSETTO:-0400
TZNAME:EDT
DTSTART:20230312T070000
END:DAYLIGHT
BEGIN:STANDARD
TZOFFSETFROM:-0400
TZOFFSETTO:-0500
TZNAME:EST
DTSTART:20231105T060000
END:STANDARD
BEGIN:DAYLIGHT
TZOFFSETFROM:-0500
TZOFFSETTO:-0400
TZNAME:EDT
DTSTART:20240310T070000
END:DAYLIGHT
BEGIN:STANDARD
TZOFFSETFROM:-0400
TZOFFSETTO:-0500
TZNAME:EST
DTSTART:20241103T060000
END:STANDARD
BEGIN:DAYLIGHT
TZOFFSETFROM:-0500
TZOFFSETTO:-0400
TZNAME:EDT
DTSTART:20250309T070000
END:DAYLIGHT
BEGIN:STANDARD
TZOFFSETFROM:-0400
TZOFFSETTO:-0500
TZNAME:EST
DTSTART:20251102T060000
END:STANDARD
BEGIN:DAYLIGHT
TZOFFSETFROM:-0500
TZOFFSETTO:-0400
TZNAME:EDT
DTSTART:20260308T070000
END:DAYLIGHT
BEGIN:STANDARD
TZOFFSETFROM:-0400
TZOFFSETTO:-0500
TZNAME:EST
DTSTART:20261101T060000
END:STANDARD
BEGIN:DAYLIGHT
TZOFFSETFROM:-0500
TZOFFSETTO:-0400
TZNAME:EDT
DTSTART:20270314T070000
END:DAYLIGHT
BEGIN:STANDARD
TZOFFSETFROM:-0400
TZOFFSETTO:-0500
TZNAME:EST
DTSTART:20271107T060000
END:STANDARD
END:VTIMEZONE
BEGIN:VEVENT
DTSTART;TZID=America/Toronto:20260325T140000
DTEND;TZID=America/Toronto:20260325T143000
DTSTAMP:20260424T063023
CREATED:20260318T185945Z
LAST-MODIFIED:20260318T185945Z
UID:10001606-1774447200-1774449000@eastridge.ca
SUMMARY:Chair Fitness
DESCRIPTION:Come for some gentle fitness on a chair with Marg. There will be light weights and bands available for anyone who wants a challenge.  \nFitness class starts promptly at 2pm in the Fellowship Hall so come a little early or stick around a little afterwards for some chats.
URL:https://eastridge.ca/event/chair-fitness/2026-03-25/
CATEGORIES:Fitness,Women
ATTACH;FMTTYPE=image/jpeg:https://eastridge.ca/wp-content/uploads/2026/03/chair.jpg
END:VEVENT
BEGIN:VEVENT
DTSTART;TZID=America/Toronto:20260324T100000
DTEND;TZID=America/Toronto:20260324T120000
DTSTAMP:20260424T063023
CREATED:20260318T192254Z
LAST-MODIFIED:20260318T192314Z
UID:10001620-1774346400-1774353600@eastridge.ca
SUMMARY:Walking Club
DESCRIPTION:Join the Walking Club every Tuesday and Friday morning with Marg. You can stay for the full 2 hours or drop in any time!  \nIf you can’t find us when you come in\, we’ll be in the building somewhere!
URL:https://eastridge.ca/event/walking-club/2026-03-24/
CATEGORIES:Fitness,Women
ATTACH;FMTTYPE=image/jpeg:https://eastridge.ca/wp-content/uploads/2026/03/Walking.jpg
END:VEVENT
BEGIN:VEVENT
DTSTART;TZID=America/Toronto:20260305T140000
DTEND;TZID=America/Toronto:20260305T170000
DTSTAMP:20260424T063023
CREATED:20260204T175001Z
LAST-MODIFIED:20260205T133810Z
UID:10001602-1772719200-1772730000@eastridge.ca
SUMMARY:World Day of Prayer
DESCRIPTION:‘I Will Give You Rest: Come’ Matthew 11:28-30. \n​World Day of Prayer is a global ecumenical movement led by Christian women who welcome you to join in prayer and action for peace and justice. \nThe 2026 World Day of Prayer materials from Nigeria bring us a powerful invitation drawn from Matthew 11:28-30. At a time when people worldwide are carrying heavy burdens\, our Nigerian sisters offer profound insights into finding rest in God.  \nAll are welcome to attend the 2026 World Day of Prayer service which is being hosted by Stouffville United Church\, 34 Church St N.
URL:https://eastridge.ca/event/world-day-of-prayer/
LOCATION:Stouffville United Church\, 34 Church St N\, Stouffville\, ON\, Canada
CATEGORIES:Prayer,Women
ATTACH;FMTTYPE=image/jpeg:https://eastridge.ca/wp-content/uploads/2026/02/WorldDayofPrayer_website.jpg
END:VEVENT
BEGIN:VEVENT
DTSTART;TZID=America/Toronto:20241207T100000
DTEND;TZID=America/Toronto:20241207T120000
DTSTAMP:20260424T063023
CREATED:20240919T142038Z
LAST-MODIFIED:20240919T142038Z
UID:10000344-1733565600-1733572800@eastridge.ca
SUMMARY:Craft 'n Chat (Women)
DESCRIPTION:Bring your latest craft project to work on while we spend time together.  If you are not crafty that is OK! Bring a friend or make a friend.  
URL:https://eastridge.ca/event/craft-n-chat-1224/
CATEGORIES:Women
ATTACH;FMTTYPE=image/jpeg:https://eastridge.ca/wp-content/uploads/2024/09/CraftChat.jpg
END:VEVENT
BEGIN:VEVENT
DTSTART;TZID=America/Toronto:20241109T100000
DTEND;TZID=America/Toronto:20241109T120000
DTSTAMP:20260424T063023
CREATED:20240919T141904Z
LAST-MODIFIED:20241107T144538Z
UID:10000343-1731146400-1731153600@eastridge.ca
SUMMARY:Craft 'n Chat (Women)
DESCRIPTION:EVENT CANCELLED
URL:https://eastridge.ca/event/craft-n-chat-1124/
CATEGORIES:Women
END:VEVENT
BEGIN:VEVENT
DTSTART;TZID=America/Toronto:20241019T100000
DTEND;TZID=America/Toronto:20241019T120000
DTSTAMP:20260424T063023
CREATED:20240919T141535Z
LAST-MODIFIED:20240919T142005Z
UID:10000342-1729332000-1729339200@eastridge.ca
SUMMARY:Craft 'n Chat (Women)
DESCRIPTION:Bring your latest craft project to work on while we spend time together.  If you are not crafty that is OK! Bring a friend or make a friend.  
URL:https://eastridge.ca/event/craft-n-chat-1024/
CATEGORIES:Women
ATTACH;FMTTYPE=image/jpeg:https://eastridge.ca/wp-content/uploads/2024/09/CraftChat.jpg
END:VEVENT
END:VCALENDAR