BEGIN:VCALENDAR
VERSION:2.0
PRODID:-//EastRidge Church - ECPv6.15.20//NONSGML v1.0//EN
CALSCALE:GREGORIAN
METHOD:PUBLISH
X-WR-CALNAME:EastRidge Church
X-ORIGINAL-URL:https://eastridge.ca
X-WR-CALDESC:Events for EastRidge Church
REFRESH-INTERVAL;VALUE=DURATION:PT1H
X-Robots-Tag:noindex
X-PUBLISHED-TTL:PT1H
BEGIN:VTIMEZONE
TZID:America/Toronto
BEGIN:DAYLIGHT
TZOFFSETFROM:-0500
TZOFFSETTO:-0400
TZNAME:EDT
DTSTART:20250309T070000
END:DAYLIGHT
BEGIN:STANDARD
TZOFFSETFROM:-0400
TZOFFSETTO:-0500
TZNAME:EST
DTSTART:20251102T060000
END:STANDARD
BEGIN:DAYLIGHT
TZOFFSETFROM:-0500
TZOFFSETTO:-0400
TZNAME:EDT
DTSTART:20260308T070000
END:DAYLIGHT
BEGIN:STANDARD
TZOFFSETFROM:-0400
TZOFFSETTO:-0500
TZNAME:EST
DTSTART:20261101T060000
END:STANDARD
BEGIN:DAYLIGHT
TZOFFSETFROM:-0500
TZOFFSETTO:-0400
TZNAME:EDT
DTSTART:20270314T070000
END:DAYLIGHT
BEGIN:STANDARD
TZOFFSETFROM:-0400
TZOFFSETTO:-0500
TZNAME:EST
DTSTART:20271107T060000
END:STANDARD
END:VTIMEZONE
BEGIN:VEVENT
DTSTART;TZID=America/Toronto:20260305T140000
DTEND;TZID=America/Toronto:20260305T170000
DTSTAMP:20260425T075745
CREATED:20260204T175001Z
LAST-MODIFIED:20260205T133810Z
UID:10001602-1772719200-1772730000@eastridge.ca
SUMMARY:World Day of Prayer
DESCRIPTION:‘I Will Give You Rest: Come’ Matthew 11:28-30. \n​World Day of Prayer is a global ecumenical movement led by Christian women who welcome you to join in prayer and action for peace and justice. \nThe 2026 World Day of Prayer materials from Nigeria bring us a powerful invitation drawn from Matthew 11:28-30. At a time when people worldwide are carrying heavy burdens\, our Nigerian sisters offer profound insights into finding rest in God.  \nAll are welcome to attend the 2026 World Day of Prayer service which is being hosted by Stouffville United Church\, 34 Church St N.
URL:https://eastridge.ca/event/world-day-of-prayer/
LOCATION:Stouffville United Church\, 34 Church St N\, Stouffville\, ON\, Canada
CATEGORIES:Prayer,Women
ATTACH;FMTTYPE=image/jpeg:https://eastridge.ca/wp-content/uploads/2026/02/WorldDayofPrayer_website.jpg
END:VEVENT
END:VCALENDAR