BEGIN:VCALENDAR
VERSION:2.0
PRODID:-//EastRidge Church - ECPv6.15.20//NONSGML v1.0//EN
CALSCALE:GREGORIAN
METHOD:PUBLISH
X-ORIGINAL-URL:https://eastridge.ca
X-WR-CALDESC:Events for EastRidge Church
REFRESH-INTERVAL;VALUE=DURATION:PT1H
X-Robots-Tag:noindex
X-PUBLISHED-TTL:PT1H
BEGIN:VTIMEZONE
TZID:America/Toronto
BEGIN:DAYLIGHT
TZOFFSETFROM:-0500
TZOFFSETTO:-0400
TZNAME:EDT
DTSTART:20240310T070000
END:DAYLIGHT
BEGIN:STANDARD
TZOFFSETFROM:-0400
TZOFFSETTO:-0500
TZNAME:EST
DTSTART:20241103T060000
END:STANDARD
BEGIN:DAYLIGHT
TZOFFSETFROM:-0500
TZOFFSETTO:-0400
TZNAME:EDT
DTSTART:20250309T070000
END:DAYLIGHT
BEGIN:STANDARD
TZOFFSETFROM:-0400
TZOFFSETTO:-0500
TZNAME:EST
DTSTART:20251102T060000
END:STANDARD
BEGIN:DAYLIGHT
TZOFFSETFROM:-0500
TZOFFSETTO:-0400
TZNAME:EDT
DTSTART:20260308T070000
END:DAYLIGHT
BEGIN:STANDARD
TZOFFSETFROM:-0400
TZOFFSETTO:-0500
TZNAME:EST
DTSTART:20261101T060000
END:STANDARD
END:VTIMEZONE
BEGIN:VEVENT
DTSTART;VALUE=DATE:20250531
DTEND;VALUE=DATE:20250601
DTSTAMP:20260422T101720
CREATED:20250219T175235Z
LAST-MODIFIED:20250219T175633Z
UID:10000751-1748649600-1748735999@eastridge.ca
SUMMARY:Blue Jays Game
DESCRIPTION:Join us as we head down to the Rogers Center to cheer on the Jays. Transportation options available.  \nTo purchase a ticket or catch a ride\, please contact sam@eastridge.ca. \n$35 per person plus transportation costs
URL:https://eastridge.ca/event/blue-jays-game-2025/
CATEGORIES:Family,Seniors
ATTACH;FMTTYPE=image/jpeg:https://eastridge.ca/wp-content/uploads/2025/02/Jays_web.jpg
END:VEVENT
END:VCALENDAR