BEGIN:VCALENDAR
VERSION:2.0
PRODID:-//EastRidge Church - ECPv6.15.20//NONSGML v1.0//EN
CALSCALE:GREGORIAN
METHOD:PUBLISH
X-WR-CALNAME:EastRidge Church
X-ORIGINAL-URL:https://eastridge.ca
X-WR-CALDESC:Events for EastRidge Church
REFRESH-INTERVAL;VALUE=DURATION:PT1H
X-Robots-Tag:noindex
X-PUBLISHED-TTL:PT1H
BEGIN:VTIMEZONE
TZID:America/Toronto
BEGIN:DAYLIGHT
TZOFFSETFROM:-0500
TZOFFSETTO:-0400
TZNAME:EDT
DTSTART:20230312T070000
END:DAYLIGHT
BEGIN:STANDARD
TZOFFSETFROM:-0400
TZOFFSETTO:-0500
TZNAME:EST
DTSTART:20231105T060000
END:STANDARD
BEGIN:DAYLIGHT
TZOFFSETFROM:-0500
TZOFFSETTO:-0400
TZNAME:EDT
DTSTART:20240310T070000
END:DAYLIGHT
BEGIN:STANDARD
TZOFFSETFROM:-0400
TZOFFSETTO:-0500
TZNAME:EST
DTSTART:20241103T060000
END:STANDARD
BEGIN:DAYLIGHT
TZOFFSETFROM:-0500
TZOFFSETTO:-0400
TZNAME:EDT
DTSTART:20250309T070000
END:DAYLIGHT
BEGIN:STANDARD
TZOFFSETFROM:-0400
TZOFFSETTO:-0500
TZNAME:EST
DTSTART:20251102T060000
END:STANDARD
BEGIN:DAYLIGHT
TZOFFSETFROM:-0500
TZOFFSETTO:-0400
TZNAME:EDT
DTSTART:20260308T070000
END:DAYLIGHT
BEGIN:STANDARD
TZOFFSETFROM:-0400
TZOFFSETTO:-0500
TZNAME:EST
DTSTART:20261101T060000
END:STANDARD
BEGIN:DAYLIGHT
TZOFFSETFROM:-0500
TZOFFSETTO:-0400
TZNAME:EDT
DTSTART:20270314T070000
END:DAYLIGHT
BEGIN:STANDARD
TZOFFSETFROM:-0400
TZOFFSETTO:-0500
TZNAME:EST
DTSTART:20271107T060000
END:STANDARD
END:VTIMEZONE
BEGIN:VEVENT
DTSTART;TZID=America/Toronto:20260329T110000
DTEND;TZID=America/Toronto:20260329T140000
DTSTAMP:20260421T050051
CREATED:20260211T160240Z
LAST-MODIFIED:20260212T161643Z
UID:10001604-1774782000-1774792800@eastridge.ca
SUMMARY:Global Lunch Gathering: Elias Omer & Heather Jacobson
DESCRIPTION:Join the Global Impact Team for a special Global Lunch Gathering on Sunday\, March 29\, immediately following the service! \nEnjoy a warm soup lunch while hearing inspiring stories from Elias Omer and Heather Jacobson about their impactful work in Ethiopia. This is a wonderful opportunity to connect\, learn\, and be encouraged by what’s happening around the world. \nWe’d love for you to be part of it!Please let us know if you plan to attend\, and consider signing up to bring a soup or dessert to share (enough for 10 people). \nSign-up sheets are available in the foyer starting March 1. \nWe look forward to gathering with you! 🌍🥣
URL:https://eastridge.ca/event/global-lunch-gathering-elias-omer-heather-jacobson/
CATEGORIES:Global Impact
ATTACH;FMTTYPE=image/jpeg:https://eastridge.ca/wp-content/uploads/2026/02/GlobalLunch_web-1.jpg
END:VEVENT
BEGIN:VEVENT
DTSTART;TZID=America/Toronto:20250927T183000
DTEND;TZID=America/Toronto:20250927T203000
DTSTAMP:20260421T050051
CREATED:20250813T175840Z
LAST-MODIFIED:20250813T175840Z
UID:10001073-1758997800-1759005000@eastridge.ca
SUMMARY:Potatoes Bar & Silent Auction (Thailand Missions Fundraiser)
DESCRIPTION:Enjoy a baked potato with more toppings and fixings than you have ever seen before as you browse the items for the silent auction and donation. It will be a night full of fun\, music and activities with all proceeds to help raise funds for the 2025 Thailand missions trip in October. \nTickets are on sale for $25 for adults\, $10 for children 4-12 years old\, and free for children under 4. Tickets can be purchased from a team member in the lobby starting August 17 at the Thailand table on Sundays or contacting sam@eastridge.ca \n 
URL:https://eastridge.ca/event/potatoes-bar-silent-auction-thailand-missions-fundraiser/
CATEGORIES:Family,Global Impact
ATTACH;FMTTYPE=image/jpeg:https://eastridge.ca/wp-content/uploads/2025/08/Potato-02.jpg
END:VEVENT
BEGIN:VEVENT
DTSTART;TZID=America/Toronto:20250913T180000
DTEND;TZID=America/Toronto:20250913T190000
DTSTAMP:20260421T050051
CREATED:20250820T133453Z
LAST-MODIFIED:20250820T133511Z
UID:10001075-1757786400-1757790000@eastridge.ca
SUMMARY:Night of Worship (Thailand Fundraiser)
DESCRIPTION:Experience a night in the presence of God through worship. \nEastRidge Church is sending a team to Thailand. All proceeds from our praise & worship evening will help send materials\, resources and help with programs for local children.
URL:https://eastridge.ca/event/night-of-worship-thailand-fundraiser/
CATEGORIES:Community,Global Impact
ATTACH;FMTTYPE=image/jpeg:https://eastridge.ca/wp-content/uploads/2025/08/Worship_website.jpg
END:VEVENT
BEGIN:VEVENT
DTSTART;TZID=America/Toronto:20241129T093000
DTEND;TZID=America/Toronto:20241129T150000
DTSTAMP:20260421T050051
CREATED:20241129T171953Z
LAST-MODIFIED:20250909T125352Z
UID:10000370-1732872600-1732892400@eastridge.ca
SUMMARY:Global Impact Day
DESCRIPTION:Come and celebrate the work our global workers is doing around the world for Jesus. On Global Impact Day\, you will hear an inspirational message from one of our workers\, experience amazing worship\, and receive updates from a few workers on what God is doing in their mission field. \n\nSpeaker: James Park (e3 Ministry)\nWorship: Tim & Steph Clayton (YWAM Kona) and EastRidge Worship Team\nUpdates: Joel K. (Operation Mobilisation) and Rob & Sharlene Dilts (Traveling in The River Together)\n\nDon’t miss the international themed potluck after the service as well as take the opportunity to speak to our global workers. Please make sure you bring a nut-free dish.
URL:https://eastridge.ca/event/global-impact-day/
CATEGORIES:Global Impact
ATTACH;FMTTYPE=image/jpeg:https://eastridge.ca/wp-content/uploads/2024/11/GID_Vid.jpg
END:VEVENT
END:VCALENDAR